BEGIN:VCALENDAR
VERSION:2.0
PRODID:-//ChamberMaster//Event Calendar 2.0//EN
METHOD:PUBLISH
X-PUBLISHED-TTL:P1H
REFRESH-INTERVAL:P1H
CALSCALE:GREGORIAN
BEGIN:VTIMEZONE
TZID:America/Denver
BEGIN:DAYLIGHT
RRULE:FREQ=YEARLY;BYMONTH=3;BYDAY=2SU
DTSTART:20070101T000000
TZOFFSETFROM:-0700
TZOFFSETTO:-0600
TZNAME:Mountain Daylight Time
END:DAYLIGHT
BEGIN:STANDARD
RRULE:FREQ=YEARLY;BYMONTH=11;BYDAY=1SU
DTSTART:20070101T000000
TZOFFSETFROM:-0600
TZOFFSETTO:-0700
TZNAME:Mountain Standard Time
END:STANDARD
END:VTIMEZONE
BEGIN:VEVENT
DTSTART;TZID=America/Denver:20260425T090000
DTEND;TZID=America/Denver:20260425T120000
X-MICROSOFT-CDO-ALLDAYEVENT:FALSE
SUMMARY:SWANA YP Earth Day South Platte River cleanup
DESCRIPTION:Celebrate Earth Day by joining South Platte Renews 9th Annual River Clean-Up on April 25th\, 2026. Help us keep waterways\, including the South Platte River\, and green spaces clean and healthy. It's a great opportunity to positively impact the environment while enjoying the outdoors and connecting with your community. This year\, we have a goal of collecting 350 bags of trash. Register for the Littleton location on the Mary Carter Greenway Trail (Meet at Riverside Downs Parking Lot near Pedal Bike Shop)\, in Englewood at Centennial Park at 4630 S. Decatur Street\, or at our new location in Sheridan on S Platte River Drive near the Regal River Point Movie theater. The registration deadline for guaranteed receival of a T-shirts is March 24th! For those unable to attend the April 25th cleanup day\, South Platte Renew coordinates a virtual clean-up from April 18-25\, inviting groups to clean up an area important to their community and submit photographs and the number of bags of trash and recycling collected through our virtual form. The virtual clean-up can be conducted anywhere worldwide and will count toward the clean-up goal of 350 bags!Register!
X-ALT-DESC;FMTTYPE=text/html:<!DOCTYPE html><html><head><title></title></head><body aria-disabled="false"><p>Celebrate Earth Day by joining South Platte Renews 9th Annual River Clean-Up on April 25th\, 2026. Help us keep waterways\, including the South Platte River\, and green spaces clean and healthy. It&rsquo\;s a great opportunity to positively impact the environment while enjoying the outdoors and connecting with your community. This year\, we have a goal of collecting 350 bags of trash.&nbsp\;</p><p>Register for the Littleton location on the Mary Carter Greenway Trail (Meet at Riverside Downs Parking Lot near Pedal Bike Shop)\, in Englewood at Centennial Park at 4630 S. Decatur Street\, or at our new location in Sheridan on S Platte River Drive near the Regal River Point Movie theater. The registration deadline for guaranteed receival of a T-shirts is March 24th!&nbsp\;</p><p>For those unable to attend the April 25th cleanup day\, South Platte Renew coordinates a virtual clean-up from April 18-25\, inviting groups to clean up an area important to their community and submit photographs and the number of bags of trash and recycling collected through our virtual form. The virtual clean-up can be conducted anywhere worldwide and will count toward the clean-up goal of 350 bags!</p><p><a fr-original-style="" href="https://southplatterenewco.gov/community-event/9th-annual-south-platte-renew-river-clean-up/" rel="noopener noreferrer" style="-webkit-user-select: auto\;" target="_blank"><span style="font-size: 24px\;"><strong fr-original-style="" style="font-weight: 700\;">Register!</strong></span></a></p></body></html>
LOCATION:4630 S. Decatur Street Englewood CO 80110
UID:e.4577.1444953
SEQUENCE:3
DTSTAMP:20260420T044516Z
URL:https://members.recyclecolorado.org/eventcalendar/Details/swana-yp-earth-day-south-platte-river-cleanup-1711445?sourceTypeId=Hub
END:VEVENT
END:VCALENDAR
