BEGIN:VCALENDAR
VERSION:2.0
PRODID:-//ChamberMaster//Event Calendar 2.0//EN
METHOD:PUBLISH
X-PUBLISHED-TTL:P1H
REFRESH-INTERVAL:P1H
CALSCALE:GREGORIAN
BEGIN:VTIMEZONE
TZID:America/Denver
BEGIN:DAYLIGHT
RRULE:FREQ=YEARLY;BYMONTH=3;BYDAY=2SU
DTSTART:20070101T000000
TZOFFSETFROM:-0700
TZOFFSETTO:-0600
TZNAME:Mountain Daylight Time
END:DAYLIGHT
BEGIN:STANDARD
RRULE:FREQ=YEARLY;BYMONTH=11;BYDAY=1SU
DTSTART:20070101T000000
TZOFFSETFROM:-0600
TZOFFSETTO:-0700
TZNAME:Mountain Standard Time
END:STANDARD
END:VTIMEZONE
BEGIN:VEVENT
DTSTART;TZID=America/Denver:20260422T110000
DTEND;TZID=America/Denver:20260422T130000
X-MICROSOFT-CDO-ALLDAYEVENT:FALSE
SUMMARY:Steamboat Hard-to-recycle Items Facility & Transfer Earth Day Grand Opening & Battery Drive
DESCRIPTION:The Apex SHIFT Center is now open in Steamboat Springs   a dedicated hard-to-recycle drop-off facility designed to give our community a better way to handle items that don't belong in your trash or curbside recycling.This includes materials like electronics\, batteries\, light bulbs\, scrap metal\, cardboard\, paint care\, and other items that require special handling. By creating a space specifically for these materials\, the SHIFT Center helps expand recycling access and supports long-term waste diversion across Northwest Colorado. Join SHIFT for our Earth Day Grand Opening & Battery Drive and most importantly   a one-day-only FREE battery recycling drive. You can bring all types of batteries\, and we'll make sure they are handled and recycled properly. This is a great opportunity to safely clear out items that should never go in the trash. Register for the event!
X-ALT-DESC;FMTTYPE=text/html:<!DOCTYPE html><html><head><title></title></head><body aria-disabled="false"><p>The Apex SHIFT Center is now open in Steamboat Springs &mdash\; a dedicated hard-to-recycle drop-off facility designed to give our community a better way to handle items that don&#39\;t belong in your trash or curbside recycling.</p><p>This includes materials like electronics\, batteries\, light bulbs\, scrap metal\, cardboard\, paint care\, and other items that require special handling.&nbsp\;</p><p>By creating a space specifically for these materials\, the SHIFT Center helps expand recycling access and supports long-term waste diversion across Northwest Colorado.&nbsp\;</p><p>Join SHIFT for our Earth Day Grand Opening &amp\; Battery Drive and most importantly &mdash\; a one-day-only FREE battery recycling drive.&nbsp\;</p><p>You can bring all types of batteries\, and we&#39\;ll make sure they are handled and recycled properly. This is a great opportunity to safely clear out items that should never go in the trash.&nbsp\;</p><p><a fr-original-style="" href="https://forms.office.com/Pages/ResponsePage.aspx?id=JW48aSy8MkKfpihECIEPKYgB38mKiMtJgYYiTz8FmqhUODlMWEVJWTU3UEVTRU9KTE9KOVo5TExINC4u" rel="noopener noreferrer" style="-webkit-user-select: auto\;" target="_blank"><strong fr-original-style="" style="font-weight: 700\;"><span style="font-size: 24px\;">Register for the event!</span></strong></a></p></body></html>
LOCATION:Steamboat Springs CO 80487
UID:e.4577.1444951
SEQUENCE:3
DTSTAMP:20260420T044547Z
URL:https://members.recyclecolorado.org/eventcalendar/Details/steamboat-hard-to-recycle-items-facility-transfer-earth-day-grand-opening-battery-drive-1711443?sourceTypeId=Hub
END:VEVENT
END:VCALENDAR
