BEGIN:VCALENDAR
VERSION:2.0
PRODID:-//ChamberMaster//Event Calendar 2.0//EN
METHOD:PUBLISH
X-PUBLISHED-TTL:P1H
REFRESH-INTERVAL:P1H
CALSCALE:GREGORIAN
BEGIN:VTIMEZONE
TZID:America/Denver
BEGIN:DAYLIGHT
RRULE:FREQ=YEARLY;BYMONTH=3;BYDAY=2SU
DTSTART:20070101T000000
TZOFFSETFROM:-0700
TZOFFSETTO:-0600
TZNAME:Mountain Daylight Time
END:DAYLIGHT
BEGIN:STANDARD
RRULE:FREQ=YEARLY;BYMONTH=11;BYDAY=1SU
DTSTART:20070101T000000
TZOFFSETFROM:-0600
TZOFFSETTO:-0700
TZNAME:Mountain Standard Time
END:STANDARD
END:VTIMEZONE
BEGIN:VEVENT
DTSTART;TZID=America/Denver:20260428T080000
DTEND;TZID=America/Denver:20260428T163000
X-MICROSOFT-CDO-ALLDAYEVENT:FALSE
SUMMARY:Rocky Mountain NAHMMA Conference
DESCRIPTION:April 29 Conference Sessions\nSummit County South Branch Library (Breckenridge Grand Vacations Community Center room)8:00 - 8:15 AM | RegistrationBreakfast snacks and coffee available8:15 - 8:30 AM | Welcome & Networking Kick-off EventWelcome Speech\, Sonya Hansen\, Chapter Chair9:00 AM - 12:00 PM | Technical Sessions9:00 - 10:30 | PANEL: Charged and Dangerous: Lithium-lon BatteriesCaptain Eric Johnson\, Red\, White\, and Blue Fire StationBrandy Moe\, Recycle ColoradoBraden Eidem\, Larimer County Solid Waste10:30 - 10:40 | Break10:40 - 11:10 | How a Mill Levy Can Help Fund Your HHW ProgramChristy Turner\, High Country Conservation Center11:15 - 11:45 | Above the Treeline: HHW Challenges and Solutions in Mountain RegionsMike Devins\, Eagle County HHW Facility11:45 - 12:00 | All We Do Is Win: Tell Us About Your SuccessesConference Attendees12:00 - 1:00 PM | Luncheon & Sponsor Highlights1:00 - 3:30 PM | Technical Sessions1:00 - 2:00 | Beyond the Diversion Goal: Data\, Constraints\, and the Future of Diversion at the Pitkin County Solid Waste CenterCameron Garcia\, Pitkin County Solid Waste2:00 - 2:15 | Break2:15 - 3:00 | Shift into Sustainability: Colorado's New Auto Container Recycling ProgramShelly Fuller\, Interchange 3603:00 - 3:30 | Wonderful One-Day Collection EventsErrin Henggeler\, City of Fort Collins3:30 - 4:00 PM | Closing Remarks & Networking Register for the Rocky Mountain NAHMMA ConferenceApril 28th TOURS Meet at the Frisco Transfer Center lot10:00 - 10:15 AM | Registration & Load BusRegistration at the bus10:30 - 11:15 AM | Tour Summit County Resource Allocation Park (SCRAP)12:00 - 1:00 PM | Lunch at Pazzo's Pizzeria1:30 - 2:30 PM | Tour Eagle County Solid Waste & HHW Facility3:00 - 3:45 PM | Tour Walking Mountains Science Center4:30 - 5:00 PM | Return to the Frisco Transfer CenterREGISTER
X-ALT-DESC;FMTTYPE=text/html:<!DOCTYPE html><html><head><title></title></head><body aria-disabled="false"><p><strong fr-original-style="" style="font-weight: 700\;"><span style="font-size: 24px\;">April 29 Conference Sessions</span></strong><br><strong fr-original-style="" style="font-weight: 700\;"><em>Summit County South Branch Library (Breckenridge Grand Vacations Community Center room)</em></strong></p><ul fr-original-style="" style="list-style-position: inside\;"><li>8:00 - 8:15 AM | <strong fr-original-style="" style="font-weight: 700\;">Registration</strong><ul fr-original-style="" style="list-style-position: inside\;"><li>Breakfast snacks and coffee available</li></ul></li><li>8:15 - 8:30 AM | <strong fr-original-style="" style="font-weight: 700\;">Welcome &amp\; Networking Kick-off Event</strong><ul fr-original-style="" style="list-style-position: inside\;"><li>Welcome Speech\, Sonya Hansen\, Chapter Chair</li></ul></li><li>9:00 AM - 12:00 PM | <strong fr-original-style="" style="font-weight: 700\;">Technical Sessions</strong><ul fr-original-style="" style="list-style-position: inside\;"><li>9:00 - 10:30 | <strong fr-original-style="" style="font-weight: 700\;">PANEL: Charged and Dangerous: Lithium-lon Batteries</strong><ul fr-original-style="" style="list-style-position: inside\;"><li>Captain Eric Johnson\, Red\, White\, and Blue Fire Station</li><li>Brandy Moe\, Recycle Colorado</li><li>Braden Eidem\, Larimer County Solid Waste</li></ul></li><li>10:30 - 10:40 | <strong fr-original-style="" style="font-weight: 700\;">Break</strong></li><li>10:40 - 11:10 | <strong fr-original-style="" style="font-weight: 700\;">How a Mill Levy Can Help Fund Your HHW Program</strong><ul fr-original-style="" style="list-style-position: inside\;"><li>Christy Turner\, High Country Conservation Center</li></ul></li><li>11:15 - 11:45 | <strong fr-original-style="" style="font-weight: 700\;">Above the Treeline: HHW Challenges and Solutions in Mountain Regions</strong><ul fr-original-style="" style="list-style-position: inside\;"><li>Mike Devins\, Eagle County HHW Facility</li></ul></li><li>11:45 - 12:00 | <strong fr-original-style="" style="font-weight: 700\;">All We Do Is Win: Tell Us About Your Successes</strong><ul fr-original-style="" style="list-style-position: inside\;"><li style="margin-left: 20px\;">Conference Attendees</li></ul></li></ul></li><li style="margin-left: 20px\;">12:00 - 1:00 PM | <strong fr-original-style="" style="font-weight: 700\;">Luncheon &amp\; Sponsor Highlights</strong></li><li style="margin-left: 20px\;">1:00 - 3:30 PM | Technical Sessions<ul fr-original-style="" style="list-style-position: inside\;"><li style="margin-left: 20px\;">1:00 - 2:00 | <strong fr-original-style="" style="font-weight: 700\;">Beyond the Diversion Goal: Data\, Constraints\, and the Future of Diversion at the Pitkin County Solid Waste Center</strong><ul fr-original-style="" style="list-style-position: inside\;"><li style="margin-left: 20px\;">Cameron Garcia\, Pitkin County Solid Waste</li></ul></li><li style="margin-left: 20px\;">2:00 - 2:15 | <strong fr-original-style="" style="font-weight: 700\;">Break</strong></li><li style="margin-left: 20px\;">2:15 - 3:00 | <strong fr-original-style="" style="font-weight: 700\;">Shift into Sustainability: Colorado&#39\;s New Auto Container Recycling Program</strong><ul fr-original-style="" style="list-style-position: inside\;"><li style="margin-left: 20px\;">Shelly Fuller\, Interchange 360</li></ul></li><li style="margin-left: 20px\;">3:00 - 3:30 | <strong fr-original-style="" style="font-weight: 700\;">Wonderful One-Day Collection Events</strong><ul fr-original-style="" style="list-style-position: inside\;"><li style="margin-left: 20px\;">Errin Henggeler\, City of Fort Collins</li></ul></li></ul></li><li style="margin-left: 20px\;">3:30 - 4:00 PM | <strong fr-original-style="" style="font-weight: 700\;">Closing Remarks &amp\; Networking</strong></li></ul><p><a fr-original-style="" href="https://nahmma.starchapter.com/meetinginfo.php?id=243&ts=1774286597" rel="noopener noreferrer" style="-webkit-user-select: auto\;" target="_blank"><strong fr-original-style="" style="font-weight: 700\;"><span style="font-size: 30px\;"> Register for the Rocky Mountain NAHMMA Conference</span></strong></a></p><p><strong fr-original-style="" style="font-weight: 700\;"><span style="font-size: 24px\;">April 28th TOURS</span></strong>&nbsp\;</p><p><strong fr-original-style="" style="font-weight: 700\;"><em>Meet at the Frisco Transfer Center lot</em></strong></p><ul fr-original-style="" style="list-style-position: inside\;"><li>10:00 - 10:15 AM | Registration &amp\; Load Bus<ul fr-original-style="" style="list-style-position: inside\;"><li><em>Registration at the bus</em></li></ul></li><li>10:30 - 11:15 AM | Tour Summit County Resource Allocation Park (SCRAP)</li><li>12:00 - 1:00 PM | Lunch at Pazzo&#39\;s Pizzeria</li><li>1:30 - 2:30 PM | Tour Eagle County Solid Waste &amp\; HHW Facility</li><li>3:00 - 3:45 PM | Tour Walking Mountains Science Center</li><li>4:30 - 5:00 PM | Return to the Frisco Transfer Center</li></ul><p><a fr-original-style="" href="https://nahmma.starchapter.com/meetinginfo.php?id=243&ts=1774286597" rel="noopener noreferrer" style="-webkit-user-select: auto\;" target="_blank"><strong fr-original-style="" style="font-weight: 700\;"><span style="font-size: 24px\;">REGISTER</span></strong></a></p></body></html>
LOCATION:103 S. Harris St. Breckenridge CO
UID:e.4577.1443892
SEQUENCE:3
DTSTAMP:20260420T044202Z
URL:https://members.recyclecolorado.org/eventcalendar/Details/rocky-mountain-nahmma-conference-1710173?sourceTypeId=Hub
END:VEVENT
END:VCALENDAR
