BEGIN:VCALENDAR
VERSION:2.0
PRODID:-//ChamberMaster//Event Calendar 2.0//EN
METHOD:PUBLISH
X-PUBLISHED-TTL:P1H
REFRESH-INTERVAL:P1H
CALSCALE:GREGORIAN
BEGIN:VTIMEZONE
TZID:America/Denver
BEGIN:DAYLIGHT
RRULE:FREQ=YEARLY;BYMONTH=3;BYDAY=2SU
DTSTART:20070101T000000
TZOFFSETFROM:-0700
TZOFFSETTO:-0600
TZNAME:Mountain Daylight Time
END:DAYLIGHT
BEGIN:STANDARD
RRULE:FREQ=YEARLY;BYMONTH=11;BYDAY=1SU
DTSTART:20070101T000000
TZOFFSETFROM:-0600
TZOFFSETTO:-0700
TZNAME:Mountain Standard Time
END:STANDARD
END:VTIMEZONE
BEGIN:VEVENT
DTSTART;VALUE=DATE:20260421
DTEND;VALUE=DATE:20260424
TRANSP:TRANSPARENT
X-MICROSOFT-CDO-ALLDAYEVENT:TRUE
SUMMARY:Race to Zero Waste's Zero Waste Form
DESCRIPTION:Join hundreds of advocates at the 3rd annual Zero Waste Forum located in beautiful Park City\, Utah\, April 21-23rd\, 2026 (April 22nd is Earth Day!) All events will be located at the Jim Santy Auditorium (The Jim Santy Auditorium is located on the 3rd floor of the Park City Library) where many Sundance Film Festivals have been located. The Zero Waste Forum is Race to Zero Waste's annual flagship event and a notable part of Earth Month events. Hosted in a new region each year\, the Forum brings together national changemakers\, local leaders\, and international voices for two days of panels\, workshops\, breakout sessions\, networking\, and activations that advance zero waste practices and systems. If you're a member of NRC\, you will receive 20% off both virtual or in person ticketing. Additionally\, when you use the discount code as a NRC affiliate member\, this automatically provides another 20% of the ticket proceeds to directly benefit NRC programs.Register!
X-ALT-DESC;FMTTYPE=text/html:<!DOCTYPE html><html><head><title></title></head><body aria-disabled="false"><p>Join hundreds of advocates at the 3rd annual Zero Waste Forum located in beautiful Park City\, Utah\, April 21-23rd\, 2026 (April 22nd is Earth Day!) All events will be located at the Jim Santy Auditorium (The Jim Santy Auditorium is located on the 3rd floor of the Park City Library) where many Sundance Film Festivals have been located. The Zero Waste Forum is Race to Zero Waste&rsquo\;s annual flagship event and a notable part of Earth Month events. Hosted in a new region each year\, the Forum brings together national changemakers\, local leaders\, and international voices for two days of panels\, workshops\, breakout sessions\, networking\, and activations that advance zero waste practices and systems. If you&rsquo\;re a member of NRC\, you will receive 20% off both virtual or in person ticketing. Additionally\, when you use the discount code as a NRC affiliate member\, this automatically provides another 20% of the ticket proceeds to directly benefit NRC programs.</p><p><a fr-original-style="" href="https://racetozerowaste.org" rel="noopener noreferrer" style="-webkit-user-select: auto\;" target="_blank"><strong fr-original-style="" style="font-weight: 700\;"><span style="font-size: 24px\;">Register!</span></strong></a></p></body></html>
LOCATION:Park City UT
UID:e.4577.1416665
SEQUENCE:3
DTSTAMP:20260420T044045Z
URL:https://members.recyclecolorado.org/eventcalendar/Details/race-to-zero-waste-s-zero-waste-form-1674503?sourceTypeId=Hub
END:VEVENT
END:VCALENDAR
