BEGIN:VCALENDAR
VERSION:2.0
PRODID:-//ChamberMaster//Event Calendar 2.0//EN
METHOD:PUBLISH
X-PUBLISHED-TTL:P1H
REFRESH-INTERVAL:P1H
CALSCALE:GREGORIAN
BEGIN:VTIMEZONE
TZID:America/Denver
BEGIN:DAYLIGHT
RRULE:FREQ=YEARLY;BYMONTH=3;BYDAY=2SU
DTSTART:20070101T000000
TZOFFSETFROM:-0700
TZOFFSETTO:-0600
TZNAME:Mountain Daylight Time
END:DAYLIGHT
BEGIN:STANDARD
RRULE:FREQ=YEARLY;BYMONTH=11;BYDAY=1SU
DTSTART:20070101T000000
TZOFFSETFROM:-0600
TZOFFSETTO:-0700
TZNAME:Mountain Standard Time
END:STANDARD
END:VTIMEZONE
BEGIN:VEVENT
DTSTART;TZID=America/Denver:20260418T100000
DTEND;TZID=America/Denver:20260418T140000
X-MICROSOFT-CDO-ALLDAYEVENT:FALSE
SUMMARY:Free Paint Recycling Event in Littleton
DESCRIPTION:Safely dispose of your leftover paint. Easy drop off. No fees. With GreenSheen Paint and Littleton High School PTO. All residents and businesses are invited to attend. Please visit this link for details and to sign up for a drop-off time - https://circular.eco/event/littleton2026
X-ALT-DESC;FMTTYPE=text/html:Safely dispose of your leftover paint. Easy drop off. No fees. With GreenSheen Paint and Littleton High School PTO. All residents and businesses are invited to attend. Please visit this link for details and to sign up for a drop-off time - https://circular.eco/event/littleton2026
LOCATION:199 E. Littleton Blvd. Littleton CO 80121
UID:e.4577.1423909
SEQUENCE:3
DTSTAMP:20260420T044405Z
URL:https://members.recyclecolorado.org/eventcalendar/Details/free-paint-recycling-event-in-littleton-1683575?sourceTypeId=Hub
END:VEVENT
END:VCALENDAR
