BEGIN:VCALENDAR
VERSION:2.0
PRODID:-//ChamberMaster//Event Calendar 2.0//EN
METHOD:PUBLISH
X-PUBLISHED-TTL:P1H
REFRESH-INTERVAL:P1H
CALSCALE:GREGORIAN
BEGIN:VTIMEZONE
TZID:America/Denver
BEGIN:DAYLIGHT
RRULE:FREQ=YEARLY;BYMONTH=3;BYDAY=2SU
DTSTART:20070101T000000
TZOFFSETFROM:-0700
TZOFFSETTO:-0600
TZNAME:Mountain Daylight Time
END:DAYLIGHT
BEGIN:STANDARD
RRULE:FREQ=YEARLY;BYMONTH=11;BYDAY=1SU
DTSTART:20070101T000000
TZOFFSETFROM:-0600
TZOFFSETTO:-0700
TZNAME:Mountain Standard Time
END:STANDARD
END:VTIMEZONE
BEGIN:VEVENT
DTSTART;TZID=America/Denver:20260411T100000
DTEND;TZID=America/Denver:20260411T140000
X-MICROSOFT-CDO-ALLDAYEVENT:FALSE
SUMMARY:Free Paint Recycling Event in Aurora
DESCRIPTION:Safely dispose of your leftover paint. Easy drop off. No fees. With Aurora Water and GreenSheen Paint. Open to all residents and businesses in Colorado. Visit this link for details and to sign up for a drop-off time - https://circular.eco/event/aurora2026
X-ALT-DESC;FMTTYPE=text/html:<!DOCTYPE html><html><head><title></title></head><body aria-disabled="false"><p>Safely dispose of your leftover paint. Easy drop off. No fees. With Aurora Water and GreenSheen Paint. Open to all residents and businesses in Colorado. Visit this link for details and to sign up for a drop-off time -&nbsp\;<a fr-original-style="" href="https://circular.eco/event/aurora2026" style="-webkit-user-select: auto\;">https://circular.eco/event/aurora2026</a></p></body></html>
LOCATION:13645 East Ellsworth Avenue Aurora CO 80012
UID:e.4577.1423902
SEQUENCE:3
DTSTAMP:20260420T044346Z
URL:https://members.recyclecolorado.org/eventcalendar/Details/free-paint-recycling-event-in-aurora-1683568?sourceTypeId=Hub
END:VEVENT
END:VCALENDAR
