BEGIN:VCALENDAR
VERSION:2.0
PRODID:-//ChamberMaster//Event Calendar 2.0//EN
METHOD:PUBLISH
X-PUBLISHED-TTL:P1H
REFRESH-INTERVAL:P1H
CALSCALE:GREGORIAN
BEGIN:VTIMEZONE
TZID:America/Denver
BEGIN:DAYLIGHT
RRULE:FREQ=YEARLY;BYMONTH=3;BYDAY=2SU
DTSTART:20070101T000000
TZOFFSETFROM:-0700
TZOFFSETTO:-0600
TZNAME:Mountain Daylight Time
END:DAYLIGHT
BEGIN:STANDARD
RRULE:FREQ=YEARLY;BYMONTH=11;BYDAY=1SU
DTSTART:20070101T000000
TZOFFSETFROM:-0600
TZOFFSETTO:-0700
TZNAME:Mountain Standard Time
END:STANDARD
END:VTIMEZONE
BEGIN:VEVENT
DTSTART;TZID=America/Denver:20260408T100000
DTEND;TZID=America/Denver:20260408T110000
X-MICROSOFT-CDO-ALLDAYEVENT:FALSE
SUMMARY:Foothills Organics Transfer Station Grand Opening
DESCRIPTION:We invite you to attend the grand opening of Republic Services' newest organics transfer station located at the Foothills Landfill (HWY 93).\nThis tacility represents an important step forward in advancing sustainable recycling and waste solutions across the region. Today's food and yard waste in West Metro communities is tomorrow's compost.\nWe look forward to welcoming community leaders\, partners and stakeholders as we celebrate this milestone and showcase how we're putting Sustainability in Action for the Greater Denver community.
X-ALT-DESC;FMTTYPE=text/html:We invite you to attend the grand opening of Republic Services' newest organics transfer station located at the Foothills Landfill (HWY 93).\nThis tacility represents an important step forward in advancing sustainable recycling and waste solutions across the region. Today's food and yard waste in West Metro communities is tomorrow's compost.\nWe look forward to welcoming community leaders\, partners and stakeholders as we celebrate this milestone and showcase how we're putting Sustainability in Action for the Greater Denver community.
LOCATION:8900 CO-93 Golden CO 80403
UID:e.4577.1431095
SEQUENCE:3
DTSTAMP:20260420T044346Z
URL:https://members.recyclecolorado.org/eventcalendar/Details/foothills-organics-transfer-station-grand-opening-1693594?sourceTypeId=Hub
END:VEVENT
END:VCALENDAR
