BEGIN:VCALENDAR
VERSION:2.0
PRODID:-//ChamberMaster//Event Calendar 2.0//EN
METHOD:PUBLISH
X-PUBLISHED-TTL:P1H
REFRESH-INTERVAL:P1H
CALSCALE:GREGORIAN
BEGIN:VTIMEZONE
TZID:America/Denver
BEGIN:DAYLIGHT
RRULE:FREQ=YEARLY;BYMONTH=3;BYDAY=2SU
DTSTART:20070101T000000
TZOFFSETFROM:-0700
TZOFFSETTO:-0600
TZNAME:Mountain Daylight Time
END:DAYLIGHT
BEGIN:STANDARD
RRULE:FREQ=YEARLY;BYMONTH=11;BYDAY=1SU
DTSTART:20070101T000000
TZOFFSETFROM:-0600
TZOFFSETTO:-0700
TZNAME:Mountain Standard Time
END:STANDARD
END:VTIMEZONE
BEGIN:VEVENT
DTSTART;TZID=America/Denver:20260605T173000
DTEND;TZID=America/Denver:20260605T213000
X-MICROSOFT-CDO-ALLDAYEVENT:FALSE
SUMMARY:Eco-Cycle’s 50th Anniversary Celebration
DESCRIPTION:Fifty years ago\, a small group of community members set out to change the system and they helped launch a recycling revolution. What started with a few old school buses and a lot of determination has grown into a Zero Waste movement that's transformed how society thinks about waste\, natural resources\, and our collective responsibility. Now\, it's time to celebrate how far we've come together and where we're headed next! Join us for a momentous evening marking 50 years of impact and helping power the next chapter. Get tickets!
X-ALT-DESC;FMTTYPE=text/html:<!DOCTYPE html><html><head><title></title></head><body aria-disabled="false"><p>Fifty years ago\, a small group of community members set out to change the system&mdash\;and they helped launch a recycling revolution. What started with a few old school buses and a lot of determination has grown into a Zero Waste movement that&rsquo\;s transformed how society thinks about waste\, natural resources\, and our collective responsibility.&nbsp\;</p><p>Now\, it&rsquo\;s time to celebrate how far we&rsquo\;ve come together&mdash\;and where we&rsquo\;re headed next!&nbsp\;</p><p>Join us for a momentous evening marking 50 years of impact and helping power the next chapter.&nbsp\;</p><p><a fr-original-style="" href="https://click.everyaction.com/k/129203513/613583912/406083203?nvep=ew0KICAiVGVuYW50VXJpIjogIm5ncHZhbjovL3Zhbi9FQS9FQTAxOS8xLzExNTEyMiIsDQogICJEaXN0cmlidXRpb25VbmlxdWVJZCI6ICIyYjc5NWRkOS1mYjM0LWYxMTEtOGVmMi0wMDBkM2ExNGI2NDAiLA0KICAiRW1haWxBZGRyZXNzIjogImFsbHlAcmVjeWNsZWNvbG9yYWRvLm9yZyINCn0%3D&hmac=Q1audHbZaPx6wZg2LE6HJZ7olPeAkXNaW4BnNHcVdw4=&emci=01047ce0-5d34-f111-8ef2-000d3a14b640&emdi=2b795dd9-fb34-f111-8ef2-000d3a14b640&ceid=5373780" style="-webkit-user-select: auto\;"><strong fr-original-style="" style="font-weight: 700\;"><span style="font-size: 24px\;">Get tickets!</span></strong></a></p></body></html>
LOCATION:1295 University Ave Boulder CO 80302
UID:e.4577.1443346
SEQUENCE:3
DTSTAMP:20260420T044157Z
URL:https://members.recyclecolorado.org/eventcalendar/Details/eco-cycle-s-50th-anniversary-celebration-1709590?sourceTypeId=Hub
END:VEVENT
END:VCALENDAR
