BEGIN:VCALENDAR
VERSION:2.0
PRODID:-//ChamberMaster//Event Calendar 2.0//EN
METHOD:PUBLISH
X-PUBLISHED-TTL:P1H
REFRESH-INTERVAL:P1H
CALSCALE:GREGORIAN
BEGIN:VTIMEZONE
TZID:America/Denver
BEGIN:DAYLIGHT
RRULE:FREQ=YEARLY;BYMONTH=3;BYDAY=2SU
DTSTART:20070101T000000
TZOFFSETFROM:-0700
TZOFFSETTO:-0600
TZNAME:Mountain Daylight Time
END:DAYLIGHT
BEGIN:STANDARD
RRULE:FREQ=YEARLY;BYMONTH=11;BYDAY=1SU
DTSTART:20070101T000000
TZOFFSETFROM:-0600
TZOFFSETTO:-0700
TZNAME:Mountain Standard Time
END:STANDARD
END:VTIMEZONE
BEGIN:VEVENT
DTSTART;VALUE=DATE:20260428
DTEND;VALUE=DATE:20260429
TRANSP:TRANSPARENT
X-MICROSOFT-CDO-ALLDAYEVENT:TRUE
SUMMARY:CAA Producer Responsibility Program Compost facility interest form opens
DESCRIPTION:Open market request for reimbursement (RFR) and compost funding details are here! Visit the website to learn more\, including dates for upcoming webinars. The guides linked below provide in-depth details.\nCompost Funding Guide: https://circularactionalliance.us9.list-manage.com/track/click?u=b630ff69a4f3cb75336dbe7ac&id=19b21d5dc1&e=7868fcb223\nWebinar Information: https://circularactionalliance.us9.list-manage.com/track/click?u=b630ff69a4f3cb75336dbe7ac&id=d1ea4ee7c0&e=7868fcb223
X-ALT-DESC;FMTTYPE=text/html:Open market request for reimbursement (RFR) and compost funding details are here! Visit the website to learn more\, including dates for upcoming webinars. The guides linked below provide in-depth details.\nCompost Funding Guide: https://circularactionalliance.us9.list-manage.com/track/click?u=b630ff69a4f3cb75336dbe7ac&id=19b21d5dc1&e=7868fcb223\nWebinar Information: https://circularactionalliance.us9.list-manage.com/track/click?u=b630ff69a4f3cb75336dbe7ac&id=d1ea4ee7c0&e=7868fcb223
LOCATION:
UID:e.4577.1429913
SEQUENCE:3
DTSTAMP:20260420T044029Z
URL:https://members.recyclecolorado.org/eventcalendar/Details/caa-producer-responsibility-program-compost-facility-interest-form-opens-1691541?sourceTypeId=Hub
END:VEVENT
END:VCALENDAR
