BEGIN:VCALENDAR
VERSION:2.0
PRODID:-//ChamberMaster//Event Calendar 2.0//EN
METHOD:PUBLISH
X-PUBLISHED-TTL:P1H
REFRESH-INTERVAL:P1H
CALSCALE:GREGORIAN
BEGIN:VTIMEZONE
TZID:America/Denver
BEGIN:DAYLIGHT
RRULE:FREQ=YEARLY;BYMONTH=3;BYDAY=2SU
DTSTART:20070101T000000
TZOFFSETFROM:-0700
TZOFFSETTO:-0600
TZNAME:Mountain Daylight Time
END:DAYLIGHT
BEGIN:STANDARD
RRULE:FREQ=YEARLY;BYMONTH=11;BYDAY=1SU
DTSTART:20070101T000000
TZOFFSETFROM:-0600
TZOFFSETTO:-0700
TZNAME:Mountain Standard Time
END:STANDARD
END:VTIMEZONE
BEGIN:VEVENT
DTSTART;TZID=America/Denver:20260403T130000
DTEND;TZID=America/Denver:20260403T140000
X-MICROSOFT-CDO-ALLDAYEVENT:FALSE
SUMMARY:CAA Open Market RFR Webinar
DESCRIPTION:Learn how the process works and what to expect at each step. Register at https://circularactionalliance.us9.list-manage.com/track/click?u=b630ff69a4f3cb75336dbe7ac&id=2d0ba4b81a&e=7868fcb223
X-ALT-DESC;FMTTYPE=text/html:Learn how the process works and what to expect at each step. Register at https://circularactionalliance.us9.list-manage.com/track/click?u=b630ff69a4f3cb75336dbe7ac&id=2d0ba4b81a&e=7868fcb223
LOCATION:
UID:e.4577.1429915
SEQUENCE:3
DTSTAMP:20260420T044045Z
URL:https://members.recyclecolorado.org/eventcalendar/Details/caa-open-market-rfr-webinar-1691543?sourceTypeId=Hub
END:VEVENT
END:VCALENDAR
