BEGIN:VCALENDAR
VERSION:2.0
PRODID:-//ChamberMaster//Event Calendar 2.0//EN
METHOD:PUBLISH
X-PUBLISHED-TTL:P1H
REFRESH-INTERVAL:P1H
CALSCALE:GREGORIAN
BEGIN:VTIMEZONE
TZID:America/Denver
BEGIN:DAYLIGHT
RRULE:FREQ=YEARLY;BYMONTH=3;BYDAY=2SU
DTSTART:20070101T000000
TZOFFSETFROM:-0700
TZOFFSETTO:-0600
TZNAME:Mountain Daylight Time
END:DAYLIGHT
BEGIN:STANDARD
RRULE:FREQ=YEARLY;BYMONTH=11;BYDAY=1SU
DTSTART:20070101T000000
TZOFFSETFROM:-0600
TZOFFSETTO:-0700
TZNAME:Mountain Standard Time
END:STANDARD
END:VTIMEZONE
BEGIN:VEVENT
DTSTART;TZID=America/Denver:20260429T140000
DTEND;TZID=America/Denver:20260429T150000
X-MICROSOFT-CDO-ALLDAYEVENT:FALSE
SUMMARY:CAA Compost Funding Webinar
DESCRIPTION:Get an overview of who’s eligible and how funds can be used. Register at https://circularactionalliance.us9.list-manage.com/track/click?u=b630ff69a4f3cb75336dbe7ac&id=87c9aa71d3&e=7868fcb223
X-ALT-DESC;FMTTYPE=text/html:Get an overview of who’s eligible and how funds can be used. Register at https://circularactionalliance.us9.list-manage.com/track/click?u=b630ff69a4f3cb75336dbe7ac&id=87c9aa71d3&e=7868fcb223
LOCATION:
UID:e.4577.1430298
SEQUENCE:3
DTSTAMP:20260420T044035Z
URL:https://members.recyclecolorado.org/eventcalendar/Details/caa-compost-funding-webinar-1692533?sourceTypeId=Hub
END:VEVENT
END:VCALENDAR
