BEGIN:VCALENDAR
VERSION:2.0
PRODID:-//ChamberMaster//Event Calendar 2.0//EN
METHOD:PUBLISH
X-PUBLISHED-TTL:P1H
REFRESH-INTERVAL:P1H
CALSCALE:GREGORIAN
BEGIN:VTIMEZONE
TZID:America/Denver
BEGIN:DAYLIGHT
RRULE:FREQ=YEARLY;BYMONTH=3;BYDAY=2SU
DTSTART:20070101T000000
TZOFFSETFROM:-0700
TZOFFSETTO:-0600
TZNAME:Mountain Daylight Time
END:DAYLIGHT
BEGIN:STANDARD
RRULE:FREQ=YEARLY;BYMONTH=11;BYDAY=1SU
DTSTART:20070101T000000
TZOFFSETFROM:-0600
TZOFFSETTO:-0700
TZNAME:Mountain Standard Time
END:STANDARD
END:VTIMEZONE
BEGIN:VEVENT
DTSTART;TZID=America/Denver:20260418T100000
DTEND;TZID=America/Denver:20260418T140000
X-MICROSOFT-CDO-ALLDAYEVENT:FALSE
SUMMARY:12th Annual Longmont Earth Day Celebration
DESCRIPTION:Join us for our 12th annual FREE family-friendly Earth Day event! Featuring:\nA live performance from Jenn Cleary\nReptile show from My Nature Lab\nCommunity Clean-Up in Centennial Park\nDance Performances\nAnimal Ambassadors from Longmont Humane Society\nClothing Swap by Vulture Collective \nWater Dance and Activities from Longmont Water Week\nEarth Day Inspired Face Painting\nMini Zero Waste Fair\nAnd a Guest Appearance from Congressman Joe Neguse!\n\nAs always\, there will be fun for the whole family\, with upcycled arts and crafts projects\, educational booths\, and Alpacas from Cherry Blossom Alpacas. We'll have music\, food trucks\, and more! Follow our facebook event for updates.\nComo siempre\, será divertido para toda la familia. Habrá arte con productos de reciclaje\, puestos de información educativa y alpacas de ‘Cherry Blossom Alpacas’. ¡Habrá música\, camiones de comida y más!\n\nLearn more at https://www.srlongmont.org/earth-day.html
X-ALT-DESC;FMTTYPE=text/html:Join us for our 12th annual FREE family-friendly Earth Day event! Featuring:\nA live performance from Jenn Cleary\nReptile show from My Nature Lab\nCommunity Clean-Up in Centennial Park\nDance Performances\nAnimal Ambassadors from Longmont Humane Society\nClothing Swap by Vulture Collective \nWater Dance and Activities from Longmont Water Week\nEarth Day Inspired Face Painting\nMini Zero Waste Fair\nAnd a Guest Appearance from Congressman Joe Neguse!\n\nAs always\, there will be fun for the whole family\, with upcycled arts and crafts projects\, educational booths\, and Alpacas from Cherry Blossom Alpacas. We'll have music\, food trucks\, and more! Follow our facebook event for updates.\nComo siempre\, será divertido para toda la familia. Habrá arte con productos de reciclaje\, puestos de información educativa y alpacas de ‘Cherry Blossom Alpacas’. ¡Habrá música\, camiones de comida y más!\n\nLearn more at https://www.srlongmont.org/earth-day.html
LOCATION:233 E Mountain View Ave Longmont CO 80504
UID:e.4577.1425339
SEQUENCE:3
DTSTAMP:20260420T044230Z
URL:https://members.recyclecolorado.org/eventcalendar/Details/12th-annual-longmont-earth-day-celebration-1685428?sourceTypeId=Hub
END:VEVENT
END:VCALENDAR
